BEGIN:VCALENDAR
PRODID:http://wibix.de/infusions/pro_download_panel/download.php?did=27
VERSION:2.0
METHOD:PUBLISH
BEGIN:VEVENT
DTSTART:20141011T143000Z
DTEND:20141011T180000Z
UID:70@http://www.forum.utapau.pl/
DTSTAMP:20141003T205534Z
DESCRIPTION:Zapraszamy serdecznie na spotkanie! Więcej informacji w temacie na forum: \n\n[url]http://www.utapau.pl/forum/viewthread.php?thread_id=340&amp;pid=16426#post_16426[/url]
SUMMARY:Spotkanie Utapau XCI
LOCATION:Miejski Ośrodek Kultury, sala 104, Reymonta 33
CLASS:PUBLIC
END:VEVENT
END:VCALENDAR
