BEGIN:VCALENDAR
PRODID:http://wibix.de/infusions/pro_download_panel/download.php?did=27
VERSION:2.0
METHOD:PUBLISH
BEGIN:VEVENT
DTSTART:20141025T130000Z
DTEND:20141025T180000Z
UID:71@http://www.forum.utapau.pl/
DTSTAMP:20141015T143027Z
DESCRIPTION:Zapraszamy serdecznie na spotkanie! Więcej informacji w temacie na forum: \n\n[url]http://www.utapau.pl/forum/viewthread.php?thread_id=344&amp;pid=16503#post_16503[/url]
SUMMARY:Spotkanie Utapau XCII
LOCATION:Miejski Ośrodek Kultury, sala 104, Reymonta 33
CLASS:PUBLIC
END:VEVENT
END:VCALENDAR
