BEGIN:VCALENDAR
PRODID:http://wibix.de/infusions/pro_download_panel/download.php?did=27
VERSION:2.0
METHOD:PUBLISH
BEGIN:VEVENT
DTSTART:20141108T153000Z
DTEND:20141108T190000Z
UID:72@http://www.forum.utapau.pl/
DTSTAMP:20141029T201550Z
DESCRIPTION:Zapraszamy serdecznie na spotkanie! Więcej informacji w temacie na forum: \n\n[url]http://www.utapau.pl/forum/viewthread.php?thread_id=346&amp;pid=16760#post_16760[/url]
SUMMARY:Spotkanie Utapau XCIII
LOCATION:Miejski Ośrodek Kultury, sala 104, Reymonta 33
CLASS:PUBLIC
END:VEVENT
END:VCALENDAR
