BEGIN:VCALENDAR
PRODID:http://wibix.de/infusions/pro_download_panel/download.php?did=27
VERSION:2.0
METHOD:PUBLISH
BEGIN:VEVENT
DTSTART:20141213T153000Z
DTEND:20141213T190000Z
UID:74@http://www.forum.utapau.pl/
DTSTAMP:20141125T211457Z
DESCRIPTION:Więcej informacji na temat spotkania można uzyskać w temacie na forum: \n[url]http://utapau.pl/forum/viewthread.php?thread_id=354&amp;pid=17048#post_17048[/url]\n\n[i]Zapraszamy serdecznie![/i]
SUMMARY:Spotkanie Utapau XCV
LOCATION:Miejski Ośrodek Kultury, sala 104, Reymonta 33
CLASS:PUBLIC
END:VEVENT
END:VCALENDAR
