BEGIN:VCALENDAR
PRODID:http://wibix.de/infusions/pro_download_panel/download.php?did=27
VERSION:2.0
METHOD:PUBLISH
BEGIN:VEVENT
DTSTART:20150228T140000Z
DTEND:20150228T190000Z
UID:76@http://www.forum.utapau.pl/
DTSTAMP:20150207T181236Z
DESCRIPTION:[b]Zapraszamy serdecznie na spotkanie 96![/b]\n\n[u]Więcej informacji o spotkaniu na stronie:[/u]\n[url]http://www.utapau.pl/forum/viewthread.php?thread_id=360&amp;pid=17419#post_17419[/url]
SUMMARY:Spotkanie Utapau XCVII
LOCATION:Miejski Ośrodek Kultury, sala 104, Reymonta 33
CLASS:PUBLIC
END:VEVENT
END:VCALENDAR
