BEGIN:VCALENDAR
PRODID:http://wibix.de/infusions/pro_download_panel/download.php?did=27
VERSION:2.0
METHOD:PUBLISH
BEGIN:VEVENT
DTSTART:20150328T140000Z
DTEND:20150328T190000Z
UID:78@http://www.forum.utapau.pl/
DTSTAMP:20150318T173626Z
DESCRIPTION:Zapraszamy serdecznie na spotkanie 98,5!\n\nWięcej informacji o spotkaniu na stronie:\n[url]http://forum.utapau.pl/forum/viewthread.php?thread_id=365[/url]
SUMMARY:Spotkanie Utapau XCVIII &amp; 1/2
LOCATION:Miejski Ośrodek Kultury, sala 104, Reymonta 33
CLASS:PUBLIC
END:VEVENT
END:VCALENDAR
