BEGIN:VCALENDAR
PRODID:http://wibix.de/infusions/pro_download_panel/download.php?did=27
VERSION:2.0
METHOD:PUBLISH
BEGIN:VEVENT
DTSTART:20150410T220000Z
UID:79@http://www.forum.utapau.pl/
DTSTAMP:20150407T151535Z
DESCRIPTION:Zapraszamy serdecznie na spotkanie 99!\n\nWięcej informacji o spotkaniu na stronie:\n[url]http://forum.utapau.pl/forum/viewthread.php?thread_id=367[/url]
SUMMARY:Spotkanie Utapau XCIX
LOCATION:Miejski Ośrodek Kultury, sala 104, Reymonta 33
CLASS:PUBLIC
END:VEVENT
END:VCALENDAR
