BEGIN:VCALENDAR
PRODID:http://wibix.de/infusions/pro_download_panel/download.php?did=27
VERSION:2.0
METHOD:PUBLISH
BEGIN:VEVENT
DTSTART:20150502T110000Z
DTEND:20150502T160000Z
UID:80@http://www.forum.utapau.pl/
DTSTAMP:20150412T164523Z
DESCRIPTION:[b]Zapraszamy serdecznie na jubileuszowe 100 spotkanie SSFGW Utapau![/b]\n\n[img]http://forum.utapau.pl/images/photoalbum/tort.jpg[/img] \n\n[center]Więcej informacji o spotkaniu na stronie:\n[url]http://forum.utapau.pl/forum/viewthread.php?[/center]thread_id=343&amp;pid=17914#post_17914[/url]
SUMMARY:C Spotkanie Utapau
LOCATION:Miejski Ośrodek Kultury, sala 104, Reymonta 33
CLASS:PUBLIC
END:VEVENT
END:VCALENDAR
