BEGIN:VCALENDAR
PRODID:http://wibix.de/infusions/pro_download_panel/download.php?did=27
VERSION:2.0
METHOD:PUBLISH
BEGIN:VEVENT
DTSTART:20150613T130000Z
DTEND:20150613T180000Z
UID:82@http://www.forum.utapau.pl/
DTSTAMP:20150524T230928Z
DESCRIPTION:Zapraszamy serdecznie na spotkanie 102!\n\nWięcej informacji o spotkaniu na stronie:\n[url]http://forum.utapau.pl/forum/viewthread.php?thread_id=372[/url]
SUMMARY:Spotkanie Utapau CII
LOCATION:Miejski Ośrodek Kultury, sala 104, Reymonta 33
CLASS:PUBLIC
END:VEVENT
END:VCALENDAR
