BEGIN:VCALENDAR
PRODID:http://wibix.de/infusions/pro_download_panel/download.php?did=27
VERSION:2.0
METHOD:PUBLISH
BEGIN:VEVENT
DTSTART:20150710T160000Z
UID:85@http://www.forum.utapau.pl/
DTSTAMP:20150704T131037Z
DESCRIPTION:Zapraszamy na trzecią już edycję Skierniewickiego konwentu SkierCon. W programie wiele godzin prelekcji, konkursów, gier RPG oraz LARPów. Wśród przeróżnych bloków takich jak na przykład Gwiezdne Wojny, fanastyka, RPG, manga i anime, pokaz strojów oraz turnieje w gry planszówe i komputerowe. Więc każdy powinien znaleźć coś dla siebie. Po więcej informacji i szczegółów na stronie [url]www.skiercon.pl[/url]
SUMMARY:SkierCon 2015
LOCATION:Miejski Ośrodek Kultury, sala 104, Reymonta 33
CLASS:PUBLIC
END:VEVENT
END:VCALENDAR
