BEGIN:VCALENDAR
PRODID:http://wibix.de/infusions/pro_download_panel/download.php?did=27
VERSION:2.0
METHOD:PUBLISH
BEGIN:VEVENT
DTSTART:20151107T140000Z
DTEND:20151107T190000Z
UID:86@http://www.forum.utapau.pl/
DTSTAMP:20151011T120712Z
DESCRIPTION:Więcej informacji na temat spotkania w temacie na forum: \n\n[url]http://forum.utapau.pl/forum/viewthread.php?thread_id=377&amp;pid=18404#post_18404[/url]\n\n[i]Zapraszamy serdecznie![/i]
SUMMARY:Spotkanie Utapau CV
LOCATION:Miejski Ośrodek Kultury, sala 104, Reymonta 33
CLASS:PUBLIC
END:VEVENT
END:VCALENDAR
