BEGIN:VCALENDAR
PRODID:http://wibix.de/infusions/pro_download_panel/download.php?did=27
VERSION:2.0
METHOD:PUBLISH
BEGIN:VEVENT
DTSTART:20151128T140000Z
DTEND:20151128T190000Z
UID:89@http://www.forum.utapau.pl/
DTSTAMP:20151108T172751Z
DESCRIPTION:Wiêcej informacji na temat spotkania w temacie na forum: \n\nhttp://forum.utapau.pl/forum/viewthread.php?thread_id=382\n\nZapraszamy serdecznie!
SUMMARY:Spotkanie Utapau CVI
LOCATION:Centrum Kultury i Sztuki, sala 104, Reymonta 33
CLASS:PUBLIC
END:VEVENT
END:VCALENDAR
