BEGIN:VCALENDAR
PRODID:http://wibix.de/infusions/pro_download_panel/download.php?did=27
VERSION:2.0
METHOD:PUBLISH
BEGIN:VEVENT
DTSTART:20151217T230000Z
DTEND:20151218T011500Z
UID:90@http://www.forum.utapau.pl/
DTSTAMP:20151215T211653Z
DESCRIPTION:Zapraszamy wszystkich serdecznie na najnowszą część Gwiezdnych wojen! Życzymy niezapomnianych wrażeń.\n\n[center]Niech Moc będzie z Wami![/center]
SUMMARY:Przebudzenie Mocy
LOCATION:Kino Polonez i reszta Świata
CLASS:PUBLIC
END:VEVENT
END:VCALENDAR
