BEGIN:VCALENDAR
PRODID:http://wibix.de/infusions/pro_download_panel/download.php?did=27
VERSION:2.0
METHOD:PUBLISH
BEGIN:VEVENT
DTSTART:20160116T110000Z
DTEND:20160116T190000Z
UID:91@http://www.forum.utapau.pl/
DTSTAMP:20160105T131921Z
DESCRIPTION:Jedziemy z £FSW zrobię zamieszanie w Toruniu.
SUMMARY:Wyjazd do Torunia
LOCATION:Toruń
CLASS:PUBLIC
END:VEVENT
END:VCALENDAR
