BEGIN:VCALENDAR
PRODID:http://wibix.de/infusions/pro_download_panel/download.php?did=27
VERSION:2.0
METHOD:PUBLISH
BEGIN:VEVENT
DTSTART:20160122T230000Z
UID:92@http://www.forum.utapau.pl/
DTSTAMP:20160105T132655Z
DESCRIPTION:Pierwsze noworoczne spotkanie
SUMMARY:Spotkanie Utapau CVII
LOCATION:Sala 104, CKiS
CLASS:PUBLIC
END:VEVENT
END:VCALENDAR
