BEGIN:VCALENDAR
PRODID:http://wibix.de/infusions/pro_download_panel/download.php?did=27
VERSION:2.0
METHOD:PUBLISH
BEGIN:VEVENT
DTSTART:20160402T120000Z
DTEND:20160402T170000Z
UID:94@http://www.forum.utapau.pl/
DTSTAMP:20160331T000348Z
DESCRIPTION:Spotkanie Utapau CIX
SUMMARY:Spotkanie Utapau CIX
LOCATION:sala 104 CKiS
CLASS:PUBLIC
END:VEVENT
END:VCALENDAR
